BEGIN:VCALENDAR
VERSION:2.0
PRODID:-//Rootz Cafe - ECPv6.1.3//NONSGML v1.0//EN
CALSCALE:GREGORIAN
METHOD:PUBLISH
X-ORIGINAL-URL:https://rootz.cafe
X-WR-CALDESC:Events for Rootz Cafe
REFRESH-INTERVAL;VALUE=DURATION:PT1H
X-Robots-Tag:noindex
X-PUBLISHED-TTL:PT1H
BEGIN:VTIMEZONE
TZID:Europe/Amsterdam
BEGIN:DAYLIGHT
TZOFFSETFROM:+0100
TZOFFSETTO:+0200
TZNAME:CEST
DTSTART:20250330T010000
END:DAYLIGHT
BEGIN:STANDARD
TZOFFSETFROM:+0200
TZOFFSETTO:+0100
TZNAME:CET
DTSTART:20251026T010000
END:STANDARD
END:VTIMEZONE
BEGIN:VEVENT
DTSTART;TZID=Europe/Amsterdam:20250329T210000
DTEND;TZID=Europe/Amsterdam:20250330T010000
DTSTAMP:20260422T075439
CREATED:20250324T183855Z
LAST-MODIFIED:20250326T115843Z
UID:16978-1743282000-1743296400@rootz.cafe
SUMMARY:Rootz Café Rock&Soul Night at Kim's Kroeg Tilburg Saturday 29 March'25
DESCRIPTION:
URL:https://rootz.cafe/event/rootz-cafe-rocksoul-night-at-kims-kroeg-tilburg-saturday-29-march25/
LOCATION:Kim’s Kroeg\, Piusplein 61\, Tilburg\, Netherlands
ATTACH;FMTTYPE=image/jpeg:https://rootz.cafe/wp-content/uploads/2025/03/3-rootz.eventinstafbpost2025kims.kroeg29mrt.jpg
ORGANIZER;CN="Rootz%20Caf%C3%A9":MAILTO:martinvangulik@hotmail.com
END:VEVENT
END:VCALENDAR