BEGIN:VCALENDAR
VERSION:2.0
PRODID:-//Rootz Cafe - ECPv6.1.3//NONSGML v1.0//EN
CALSCALE:GREGORIAN
METHOD:PUBLISH
X-ORIGINAL-URL:https://rootz.cafe
X-WR-CALDESC:Events for Rootz Cafe
REFRESH-INTERVAL;VALUE=DURATION:PT1H
X-Robots-Tag:noindex
X-PUBLISHED-TTL:PT1H
BEGIN:VTIMEZONE
TZID:Europe/Amsterdam
BEGIN:DAYLIGHT
TZOFFSETFROM:+0100
TZOFFSETTO:+0200
TZNAME:CEST
DTSTART:20250330T010000
END:DAYLIGHT
BEGIN:STANDARD
TZOFFSETFROM:+0200
TZOFFSETTO:+0100
TZNAME:CET
DTSTART:20251026T010000
END:STANDARD
END:VTIMEZONE
BEGIN:VEVENT
DTSTART;TZID=Europe/Amsterdam:20250417T203000
DTEND;TZID=Europe/Amsterdam:20250417T223000
DTSTAMP:20260422T075442
CREATED:20250326T120244Z
LAST-MODIFIED:20250326T120245Z
UID:17004-1744921800-1744929000@rootz.cafe
SUMMARY:Rootz Café Livestream Thursday 17 April'25 Special
DESCRIPTION:
URL:https://rootz.cafe/event/rootz-cafe-livestream-thursday-17-april25-special/
ATTACH;FMTTYPE=image/jpeg:https://rootz.cafe/wp-content/uploads/2025/03/4-rootz.fb_.2025live.event17apr50.jpg
ORGANIZER;CN="Rootz%20Caf%C3%A9":MAILTO:martinvangulik@hotmail.com
END:VEVENT
END:VCALENDAR