BEGIN:VCALENDAR
VERSION:2.0
PRODID:-//Rootz Cafe - ECPv6.1.3//NONSGML v1.0//EN
CALSCALE:GREGORIAN
METHOD:PUBLISH
X-ORIGINAL-URL:https://rootz.cafe
X-WR-CALDESC:Events for Rootz Cafe
REFRESH-INTERVAL;VALUE=DURATION:PT1H
X-Robots-Tag:noindex
X-PUBLISHED-TTL:PT1H
BEGIN:VTIMEZONE
TZID:Europe/Amsterdam
BEGIN:DAYLIGHT
TZOFFSETFROM:+0100
TZOFFSETTO:+0200
TZNAME:CEST
DTSTART:20250330T010000
END:DAYLIGHT
BEGIN:STANDARD
TZOFFSETFROM:+0200
TZOFFSETTO:+0100
TZNAME:CET
DTSTART:20251026T010000
END:STANDARD
END:VTIMEZONE
BEGIN:VEVENT
DTSTART;TZID=Europe/Amsterdam:20250413T140000
DTEND;TZID=Europe/Amsterdam:20250413T180000
DTSTAMP:20260422T075448
CREATED:20250326T124035Z
LAST-MODIFIED:20250327T082215Z
UID:17013-1744552800-1744567200@rootz.cafe
SUMMARY:Dwaalboktour at Steck013 Tilburg with Rootz Café DJ's Sunday 20 April'25
DESCRIPTION:
URL:https://rootz.cafe/event/dwaalboktour-at-steck013-tilburg-with-rootz-cafe-djs-sunday-20-april25/
LOCATION:Steck013\, Nieuwlandstraat 1\, Tilburg\, Noord-Brabant\, 5038 SL\, Netherlands
ATTACH;FMTTYPE=image/jpeg:https://rootz.cafe/wp-content/uploads/2025/03/Unknown.jpeg
ORGANIZER;CN="Steck013":MAILTO:info@steck013.nl
END:VEVENT
END:VCALENDAR