BEGIN:VCALENDAR
VERSION:2.0
PRODID:-//Rootz Cafe - ECPv6.1.3//NONSGML v1.0//EN
CALSCALE:GREGORIAN
METHOD:PUBLISH
X-ORIGINAL-URL:https://rootz.cafe
X-WR-CALDESC:Events for Rootz Cafe
REFRESH-INTERVAL;VALUE=DURATION:PT1H
X-Robots-Tag:noindex
X-PUBLISHED-TTL:PT1H
BEGIN:VTIMEZONE
TZID:Europe/Amsterdam
BEGIN:DAYLIGHT
TZOFFSETFROM:+0100
TZOFFSETTO:+0200
TZNAME:CEST
DTSTART:20250330T010000
END:DAYLIGHT
BEGIN:STANDARD
TZOFFSETFROM:+0200
TZOFFSETTO:+0100
TZNAME:CET
DTSTART:20251026T010000
END:STANDARD
END:VTIMEZONE
BEGIN:VEVENT
DTSTART;TZID=Europe/Amsterdam:20250404T180000
DTEND;TZID=Europe/Amsterdam:20250405T003000
DTSTAMP:20260422T075439
CREATED:20250324T191629Z
LAST-MODIFIED:20250327T081934Z
UID:16982-1743789600-1743813000@rootz.cafe
SUMMARY:Rootz Café Americana Evening at De Graanhandel Tilburg Friday 4th of April'25
DESCRIPTION:
URL:https://rootz.cafe/event/rootz-cafe-americana-evening-at-de-graanhandel-tilburg-friday-4th-of-april25/
ATTACH;FMTTYPE=image/jpeg:https://rootz.cafe/wp-content/uploads/2025/03/1-rootz.eventinstafbpost2025graanhandel4apr-1.jpg
ORGANIZER;CN="Rootz%20Caf%C3%A9":MAILTO:martinvangulik@hotmail.com
END:VEVENT
END:VCALENDAR